BEGIN:VCALENDAR
VERSION:2.0
PRODID:-//Waitaha Cultural Council - ECPv4.7.2//NONSGML v1.0//EN
CALSCALE:GREGORIAN
METHOD:PUBLISH
X-WR-CALNAME:Waitaha Cultural Council
X-ORIGINAL-URL:https://waitahacc.co.nz
X-WR-CALDESC:Events for Waitaha Cultural Council
BEGIN:VEVENT
DTSTART;TZID=Pacific/Auckland:20131026T090000
DTEND;TZID=Pacific/Auckland:20131026T170000
DTSTAMP:20181222T151912
CREATED:20131011T063619Z
LAST-MODIFIED:20131011T063619Z
UID:51-1382778000-1382806800@waitahacc.co.nz
SUMMARY:Waitaha Secondary Schools Competition
DESCRIPTION:When: Saturday 26 October 2013\nSession one 9.30am (mihi whakatau 9am)\nSession two 12.45pm (doors open 12.30pm)\nWhere: Aurora Centre\, Burnside High\, Greers Road\nTickets: Tickets go on sale Friday\, 11th October 2013 at 10.30am\nEach session is $6 per ticket. Children under 5 free (if sitting on knee).  \nGo to www.eventopia.co (search for kapahaka waitaha) \n
URL:https://waitahacc.co.nz/event/waitaha-secondary-schools-competition/
LOCATION:Aurora Centre\, Burnside High School\, Christchurch\, New Zealand
END:VEVENT
END:VCALENDAR